BEGIN:VCALENDAR
VERSION:2.0
PRODID:-//Oslomet//iCal4j 1.0//EN
CALSCALE:GREGORIAN
X-WR-CALNAME:OsloMet
X-WR-TIMEZONE:Europe/Oslo
X-MS-OLK-FORCEINSPECTOROPEN:TRUE
BEGIN:VTIMEZONE
TZID:Europe/Oslo
BEGIN:STANDARD
DTSTART:19161001T010000
TZOFFSETFROM:+0200
TZOFFSETTO:+0100
RDATE:19180916T030000
RDATE:19170917T030000
RDATE:19451118T030000
RDATE:19850929T030000
RDATE:19910929T030000
RDATE:19860928T030000
RDATE:19800928T030000
RDATE:19840930T030000
RDATE:19900930T030000
RDATE:19820926T030000
RDATE:19880925T030000
RDATE:19940925T030000
RDATE:19810927T030000
RDATE:19890924T030000
RDATE:19950924T030000
RDATE:19870927T030000
RDATE:19920927T030000
RDATE:19961027T030000
RDATE:19830925T030000
RDATE:19930926T030000
RDATE:19971026T030000
RDATE:19461007T030000
RDATE:19471005T030000
RDATE:19431004T030000
RDATE:19161001T010000
RDATE:19481003T030000
RDATE:19421102T030000
RDATE:19441002T030000
RDATE:19491002T030000
END:STANDARD
BEGIN:DAYLIGHT
DTSTART:19160430T230000
TZOFFSETFROM:+0100
TZOFFSETTO:+0200
RDATE:19160430T230000
RDATE:19480418T020000
RDATE:19170416T020000
RDATE:19880327T020000
RDATE:19940327T020000
RDATE:19890326T020000
RDATE:19950326T020000
RDATE:19840325T020000
RDATE:19900325T020000
RDATE:19830327T020000
RDATE:19430329T020000
RDATE:19820328T020000
RDATE:19850331T020000
RDATE:19910331T020000
RDATE:19960331T020000
RDATE:19810329T020000
RDATE:19860330T020000
RDATE:19970330T020000
RDATE:19870329T020000
RDATE:19920329T020000
RDATE:19930328T020000
RDATE:19400401T020000
RDATE:19470406T030000
RDATE:19440403T020000
RDATE:19450402T020000
RDATE:19800406T020000
RDATE:19180415T020000
RDATE:19490410T020000
RDATE:19460414T020000
END:DAYLIGHT
BEGIN:STANDARD
DTSTART:18930401T000000
TZOFFSETFROM:+005328
TZOFFSETTO:+0100
RDATE:18930401T000000
END:STANDARD
BEGIN:DAYLIGHT
DTSTART:19450924T030000
TZOFFSETFROM:+0300
TZOFFSETTO:+0200
RDATE:19470629T030000
RDATE:19450924T030000
END:DAYLIGHT
BEGIN:DAYLIGHT
DTSTART:19450524T020000
TZOFFSETFROM:+0200
TZOFFSETTO:+0300
RDATE:19470511T030000
RDATE:19450524T020000
END:DAYLIGHT
BEGIN:DAYLIGHT
TZOFFSETFROM:+0100
TZOFFSETTO:+0200
RRULE:FREQ=YEARLY;BYMONTH=3;BYDAY=-1SU
DTSTART:20260329T000413
END:DAYLIGHT
BEGIN:STANDARD
TZOFFSETFROM:+0200
TZOFFSETTO:+0100
RRULE:FREQ=YEARLY;BYMONTH=10;BYDAY=-1SU
DTSTART:20261025T000413
END:STANDARD
END:VTIMEZONE
BEGIN:VEVENT
DTSTAMP:20260425T113731Z
DTSTART;TZID=Europe/Oslo:20260513T080000
SUMMARY:Frokostmøte: «Hvem eier fremtidens demokrati?»  
DTEND;TZID=Europe/Oslo:20260513T090000
TZID:Europe/Oslo
DESCRIPTION:Vi diskuterer vilkårene for demokratiet i en tid der globale te
 ch-selskaper og algoritmer påvirker oss stadig mer. Hvordan skal de unge t
 a makten tilbake? Hvem setter premissene for hva som fremstår som sant\, v
 iktig og mulig?\nI anledning totalberedskapsåret 2026 inviterer OsloMet og Høyskolen Krist
 iania \ntil et første frokostmøte av to som skal ta for seg temaet: Fakta\
 , kunnskap og \ntillit som grunnlag for befolkningens beredskapsevne.\n\nD
 e unge eier fremtiden og skal forme arbeidslivet\, politikken og \noffentl
 igheten videre. De skal leve lengst med konsekvensene av beslutningene \ns
 om tas i dag.\n\nSelv formes de i en samtid der globale plattformer\, algo
 ritmer og skjulte \npåvirkningsmekanismer i stor grad påvirker hva vi ser\
 , hva vi ikke ser\, og hva \nvi tror på og deler.\n\nDemokratiet svekkes n
 år vi ikke lenger er enige om hva som er sant\, når løgner \nsprer seg ras
 kere enn fakta\, og sterke reaksjoner lønner seg. Tilliten til \ninstitusj
 oner og myndigheter svekkes\, og polariseringen øker.\n Skal unge eie frem
 tiden\, må makten flyttes. Det krever politiske valg\, \nkunnskapsløft og 
 ansvarlige institusjoner.\n\nHvem styrer informasjonen vi baserer valgene 
 våre på? Hvem setter premissene \nfor hva som fremstår som sant\, viktig o
 g mulig? Hva innebærer demokratisk \nberedskap\, og hvilket ansvar har myn
 digheter\, akademia og teknologiselskaper? \nHvordan styrker vi unges krit
 iske kompetanse uten å legge ansvaret på individet \nalene?\n\nVelkommen t
 il et frokostmøte der vi diskuterer hvordan fakta\, kunnskap og \nkritisk 
 kompetanse kan styrke unges beredskap – og sikre at de faktisk blir \nsjef
 er i egne liv.\n\nProgram\n\n * Kl. 08.00 Velkommen ved Christen Krogh\, r
 ektor ved OsloMet \n * Kl. 08.05 Innlegg ved Kristin Skare Orgeret\, profe
 ssor OsloMet\, og faglig \nleder for en av OsloMets tematiske forskningssa
 tsing Et slitesterkt demokrati \n * Kl. 08.15 Innlegg ved Bente Kalsnes\, 
 professor ved Institutt for \nkommunikasjon\, Kristiania \n * Kl. 08.25 In
 nlegg ved Guri Melby\, leder av Venstre – politiske \nbetraktninger på kun
 nskap og tillit til kunnskap som grunnlag for samfunnets \nberedskapsevne.
  Hva kan utdanningsinstitusjonene gjøre? \n * Kl. 08.35 Panelsamtale med i
 nnlederne og Sølve Kuraas\, leder Tenk\, \nskoleavdelingen til Faktisk.no\
 n Samtalen ledes av OsloMet-rektor Christen Krogh \n * Kl. 09.00 Slutt \nP
 rogrammet oppdateres med tittel på innledninger. \n
URL:https://student.oslomet.no/en/whats-on/-/hva-skjer/frokostmote-hvem-eie
 r-fremtidens-demokrati-
LOCATION:OsloMet campus Pilestredet 44\, Fyrhuset
UID:Activityuid=174791789@https://student.oslomet.no
END:VEVENT
END:VCALENDAR
