BEGIN:VCALENDAR
VERSION:2.0
PRODID:-//Oslomet//iCal4j 1.0//EN
CALSCALE:GREGORIAN
X-WR-CALNAME:OsloMet
X-WR-TIMEZONE:Europe/Oslo
X-MS-OLK-FORCEINSPECTOROPEN:TRUE
BEGIN:VTIMEZONE
TZID:Europe/Oslo
BEGIN:STANDARD
DTSTART:19161001T010000
TZOFFSETFROM:+0200
TZOFFSETTO:+0100
RDATE:19180916T030000
RDATE:19170917T030000
RDATE:19451118T030000
RDATE:19850929T030000
RDATE:19910929T030000
RDATE:19860928T030000
RDATE:19800928T030000
RDATE:19840930T030000
RDATE:19900930T030000
RDATE:19820926T030000
RDATE:19880925T030000
RDATE:19940925T030000
RDATE:19810927T030000
RDATE:19890924T030000
RDATE:19950924T030000
RDATE:19870927T030000
RDATE:19920927T030000
RDATE:19961027T030000
RDATE:19830925T030000
RDATE:19930926T030000
RDATE:19971026T030000
RDATE:19461007T030000
RDATE:19471005T030000
RDATE:19431004T030000
RDATE:19161001T010000
RDATE:19481003T030000
RDATE:19421102T030000
RDATE:19441002T030000
RDATE:19491002T030000
END:STANDARD
BEGIN:DAYLIGHT
DTSTART:19160430T230000
TZOFFSETFROM:+0100
TZOFFSETTO:+0200
RDATE:19160430T230000
RDATE:19480418T020000
RDATE:19170416T020000
RDATE:19880327T020000
RDATE:19940327T020000
RDATE:19890326T020000
RDATE:19950326T020000
RDATE:19840325T020000
RDATE:19900325T020000
RDATE:19830327T020000
RDATE:19430329T020000
RDATE:19820328T020000
RDATE:19850331T020000
RDATE:19910331T020000
RDATE:19960331T020000
RDATE:19810329T020000
RDATE:19860330T020000
RDATE:19970330T020000
RDATE:19870329T020000
RDATE:19920329T020000
RDATE:19930328T020000
RDATE:19400401T020000
RDATE:19470406T030000
RDATE:19440403T020000
RDATE:19450402T020000
RDATE:19800406T020000
RDATE:19180415T020000
RDATE:19490410T020000
RDATE:19460414T020000
END:DAYLIGHT
BEGIN:STANDARD
DTSTART:18930401T000000
TZOFFSETFROM:+005328
TZOFFSETTO:+0100
RDATE:18930401T000000
END:STANDARD
BEGIN:DAYLIGHT
DTSTART:19450924T030000
TZOFFSETFROM:+0300
TZOFFSETTO:+0200
RDATE:19470629T030000
RDATE:19450924T030000
END:DAYLIGHT
BEGIN:DAYLIGHT
DTSTART:19450524T020000
TZOFFSETFROM:+0200
TZOFFSETTO:+0300
RDATE:19470511T030000
RDATE:19450524T020000
END:DAYLIGHT
BEGIN:DAYLIGHT
TZOFFSETFROM:+0100
TZOFFSETTO:+0200
RRULE:FREQ=YEARLY;BYMONTH=3;BYDAY=-1SU
DTSTART:20260329T000413
END:DAYLIGHT
BEGIN:STANDARD
TZOFFSETFROM:+0200
TZOFFSETTO:+0100
RRULE:FREQ=YEARLY;BYMONTH=10;BYDAY=-1SU
DTSTART:20261025T000413
END:STANDARD
END:VTIMEZONE
BEGIN:VEVENT
DTSTAMP:20260425T113745Z
DTSTART;TZID=Europe/Oslo:20260529T190000
SUMMARY:Universitetskonsert 2026 med Golf
DTEND;TZID=Europe/Oslo:20260529T220000
TZID:Europe/Oslo
DESCRIPTION:Bandet Golf spiller på årets Universitetskonsert. Fredag 29. ma
 i på Sentrum Scene er det gratis konsert for OsloMet-studenter.\nKonserten er på på Sentrum Scene i Oslo. Dørene åpner kl.19.00.\n\n * gyl
 dig studentbevis fra OsloMet \n * gyldig ID \n * 18 årsgrense \nGolf er kj
 ent for superhiten ”Haien kommer” 2023(spotify.com) \n<https://open.spotif
 y.com/artist/1Kj6Km5IuLGKt2cxuhSgLm?si=Bwr2TrgGQvGM0EeDJRCzzQ>\n\, har vun
 net en Spellemann og har over 220 millioner streams.\n
URL:https://student.oslomet.no/en/whats-on/-/hva-skjer/universitetskonsert-
 2026-med-golf
LOCATION:Sentrum Scene\, Oslo
UID:Activityuid=174782709@https://student.oslomet.no
END:VEVENT
END:VCALENDAR
